BEGIN:VCALENDAR
VERSION:2.0
PRODID:-//asociacion octubre - ECPv6.15.20//NONSGML v1.0//EN
CALSCALE:GREGORIAN
METHOD:PUBLISH
X-WR-CALNAME:asociacion octubre
X-ORIGINAL-URL:https://octubreasociacion.org
X-WR-CALDESC:Eventos para asociacion octubre
REFRESH-INTERVAL;VALUE=DURATION:PT1H
X-Robots-Tag:noindex
X-PUBLISHED-TTL:PT1H
BEGIN:VTIMEZONE
TZID:UTC
BEGIN:STANDARD
TZOFFSETFROM:+0000
TZOFFSETTO:+0000
TZNAME:UTC
DTSTART:20250101T000000
END:STANDARD
END:VTIMEZONE
BEGIN:VEVENT
DTSTART;TZID=UTC:20260107T000000
DTEND;TZID=UTC:20270101T000000
DTSTAMP:20260424T020126
CREATED:20260107T170732Z
LAST-MODIFIED:20260107T171211Z
UID:3810-1767744000-1798761600@octubreasociacion.org
SUMMARY:Campaña de socios y socias 2026
DESCRIPTION:CAMPAÑA SOCIOS Y SOCIAS 2026 \nOCTUBRE\, nuestro proyecto cultural\, existe gracias a la implicación de muchas personas. Somos una asociación cultural sin ánimo de lucro y autogestionada\, y nuestra independencia depende\, en gran parte\, del apoyo de nuestras socias y socios. \nAsociarse es una forma de colaborar para que podamos seguir desarrollando nuestro trabajo: programar conciertos\, teatro\, exposiciones y otras actividades culturales que no suelen tener cabida en los circuitos convencionales\, así como realizar nuestros propios montajes\, instalaciones artísticas y performances\, que forman parte de nuestra seña de identidad. \nA través de la cultura y de sus múltiples manifestaciones queremos llegar a la gente. Porque la cultura transmite\, educa y expresa\, pero también cuestiona\, protesta\, denuncia y transforma. Apostamos por una cultura alternativa y crítica que invite a pensar y a mirar la realidad desde otros puntos de vista. En los tiempos que corren\, creemos que es más necesario que nunca conocer la otra cara de la moneda\, escuchar otras voces y acceder a versiones diferentes de lo que nos cuentan. \nHacerse socio o socia es apoyar un proyecto colectivo\, independiente y comprometido con una cultura viva\, libre y transformadora. Con tu colaboración\, seguimos construyendo un espacio cultural que creemos muy necesario. \nPara asociarse\, enero es el mes. Aprovecha algún evento de principios de año\, o hazlo a través de nuestra web: \nLa cuota anual son 30€. \nAdemás\, existe otra forma de apoyo mediante Teaming\, para quienes quieran colaborar de manera diferente. \n  \nPasos a seguir: \n– entra en la web\, apartado ASOCIARSE. \n– rellena la ficha con tus datos. \n– paga 30€ de cuota por transferencia a esta cuenta: ES44 0128 0390 8701 0006 6195 \n– descarga un justificante o comprobante de pago. \n– envía ese comprobante\, como documento adjunto\, a esta cuenta correo: socixs@octubreasociacion.org \nNos vemos en OCTUBRE!!!
URL:https://octubreasociacion.org/evento/campana-de-socios-y-socias-2026/
CATEGORIES:Otros
ATTACH;FMTTYPE=image/jpeg:https://octubreasociacion.org/wp-content/uploads/2026/01/Campana-Socixs.jpg
END:VEVENT
BEGIN:VEVENT
DTSTART;TZID=UTC:20260124T080000
DTEND;TZID=UTC:20260701T170000
DTSTAMP:20260424T020126
CREATED:20260128T224800Z
LAST-MODIFIED:20260128T224800Z
UID:3849-1769241600-1782925200@octubreasociacion.org
SUMMARY:Exposición temporal
DESCRIPTION:La exposición En pie entre el polvo y la arena. Jóvenes por los derechos del pueblo saharaui\, producida por Fundación Mundubat y realizada por la fotoperiodista Nuria González\, es el resultado de un proceso de trabajo con jóvenes saharauis de distintos centros educativos de los campamentos de población refugiada de Tindouf (Argelia)\, desarrollado entre 2017 y 2019. A través de 48 fotografías\, la muestra documenta procesos formativos en Derechos Humanos\, cultura de paz y comunicación\, situando a la juventud saharaui como protagonista y sujeto activo en la defensa de sus derechos. \nLas imágenes recogen la vida cotidiana\, las aspiraciones y las formas de resistencia de una generación que crece en el exilio\, en un contexto marcado por la vulneración sistemática de derechos y por la falta de una solución política al conflicto. La exposición busca\, además\, suscitar una reflexión en la ciudadanía sobre la responsabilidad colectiva ante una realidad prolongada y silenciada. \nExposición temporal que se podrá visitar durante los eventos de la Asociación Cultural Octubre hasta el mes de julio. \nColaboran: Asociación cultural Octubre\, Cantabria por el Sáhara\, Mundubat.
URL:https://octubreasociacion.org/evento/exposicion-temporal/
CATEGORIES:Exposición
ATTACH;FMTTYPE=image/jpeg:https://octubreasociacion.org/wp-content/uploads/2026/01/IMG20260124115530-scaled.jpg
END:VEVENT
BEGIN:VEVENT
DTSTART;TZID=UTC:20260411T080000
DTEND;TZID=UTC:20260627T170000
DTSTAMP:20260424T020126
CREATED:20260405T095854Z
LAST-MODIFIED:20260405T095938Z
UID:3929-1775894400-1782579600@octubreasociacion.org
SUMMARY:NUEVAS FECHAS JUEGO DE ESCAPE
DESCRIPTION:NUEVA TEMPORADA DE NUESTRO JUEGO DE ESCAPE \nNuestro Juego de Escape\, titulado “1939”\, es una experiencia interactiva que hemos diseñado para sumergirte en la historia española\, concretamente\, en los años que abarcaron la posguerra y la dictadura franquista. \nEl juego se desarrolla en un espacio que simula y recrea un entorno de esa época. A medida que avanzas debes resolver enigmas\, acertijos\, pistas y desafíos\, siempre relacionado con las circunstancias de esa época\, como la guerra\, la represión política\, el exilio\, la incertidumbre y la lucha por la supervivencia. La idea es que\, a través de esta experiencia\, puedas conocer\, entender y sentir en la piel el verdadero contexto histórico\, el que vivieron quienes sufrieron la represión durante la dictadura franquista. \nLejos de trivializar sobre este tema tan duro\, creemos que participar en nuestro Juego de Escape es una forma educativa y emotiva de conectar con nuestra historia\, con esa parte de nuestra historia que se empeñan en silenciar y tapar. \nMás de 600 personas han participado ya!!!  Faltas tú? \nEn nuestra web tienes toda la info. Léela atentamente. Desde ahí puedes hacer tu reserva. Nos vemos en OCTUBRE!! \nwww.octubreasociacion.org
URL:https://octubreasociacion.org/evento/nuevas-fechas-juego-de-escape/
CATEGORIES:Otros
ATTACH;FMTTYPE=image/jpeg:https://octubreasociacion.org/wp-content/uploads/2026/04/IMG-20260403-WA0006.jpg
END:VEVENT
BEGIN:VEVENT
DTSTART;TZID=UTC:20260424T203000
DTEND;TZID=UTC:20260424T220000
DTSTAMP:20260424T020126
CREATED:20260325T202806Z
LAST-MODIFIED:20260405T103510Z
UID:3887-1777062600-1777068000@octubreasociacion.org
SUMMARY:Teatro: Palabras Rotas
DESCRIPTION:Sinopsis \nAlguien acaba de morir en un hospital. Antes de que se puedan iniciar las exequias fúnebres y poner el cadáver en manos de los familiares\, es necesario cumplir un “protocolo de fallecimiento hospitalario”. Es un\nprocedimiento riguroso y muy pautado que podría considerarse una ceremonia en sí mismo.\nDos mujeres llevarán a cabo esta tarea\, dos mujeres que parecen conocer muy bien cada uno de los pasos. Son espejo la una de la otra; son una voz multiplicada\, una memoria y dos cuerpos enfrentados a la\nvez a un nuevo tiempo y al peso de un pasado que convirtió en losa su presente. \nQuizá hoy puedan comenzar a destapar algunas de sus miserias y de sus esperanzas \n“Palabras rotas” habla de las heridas del autoritarismo\, de las profundas cicatrices que deja la tibieza\, la fingida indiferencia\, la auto imposición de una doble moral que impide usar la voz a favor de otros y la aceptación impostada de un devenir contra el que quizá hubiera sido posible rebelarse.\nPara sanar una herida primero hay que saber que se está herido. También ayudará conocer la razón que la causa y después\, con paciencia\, aplicar los cuidados necesarios y evitar que se vuelva\na producir.\nPor eso\, este texto no es un catálogo de calamidades; es el testimonio veraz de alguien que ha despertado del calamitoso sueño en el que el miedo le había sumido y que valientemente reconoce su cobardía y señala la fuente de su daño. Alguien con necesidad de cura\, de redención.\nQuizá todos la necesitemos.\nEn escena un monólogo desdoblado en varias voces\, tiempos que no atienden al orden cronológico y la acción convertida en una ceremonia de reconocimiento y liberación. \nFicha artística y técnica \nAutor Renzo Sicco\nDramaturgia y Dirección: Javier Esteban\nProducción Ejecutiva: Carlos Tapia\nVestuario: Azar Teatro\nDiseño de Iluminación: Javier Estéban\nMúsica y Sonido: Iván Carlón\nFotografía: Luisa Valares\nDiseño Gráfico: Luna Lunae\nIntérpretes: Lola Manzano y Mercedes Asenjo \nNo permitido menores de 13 años \nPases disponibles en Librería Dlibros / Calle Lasaga Larreta / Taquilla
URL:https://octubreasociacion.org/evento/teatro-palabras-rotas/
CATEGORIES:Teatro
ATTACH;FMTTYPE=image/jpeg:https://octubreasociacion.org/wp-content/uploads/2026/03/Cartel-Def.jpg
END:VEVENT
END:VCALENDAR